Workbook
Name kcalsondmat: Sondnäring!$B$24
Name mlPN: 'Parenteral nutrition och vätska'!#REF!
Name mlPN: Resultat!#REF!
Name mlPV: 'Parenteral nutrition och vätska'!$B$31
Name mlPV: Resultat!#REF!
Name NDkcal: Näringsdrycker!#REF!
Name NDml: Näringsdrycker!#REF!
Name peroralnutrition: 'Frukost, mellanmål och dryck'!#REF!
Name peroralvätska: 'Frukost, mellanmål och dryck'!#REF!
Name PNkcal: 'Parenteral nutrition och vätska'!#REF!
Name PNkcal: Resultat!#REF!
Name Tilläggkcal: Näringsdrycker!#REF!
Name Tilläggml: Näringsdrycker!#REF!
Name vätskasondmat: Sondnäring!$B$25

Sheet Frukost, mellanmål och dryck
A1: INSTRUKTION
A2: Ange mängd i den enhet som står överst vid varje grupp. Vid del av antal anges mänden med decimal, tex 0,5 eller 1,5.
C4: Energi | D4: Protein | E4: Vätska | I4: Energi | J4: Protein | K4: Vätska | O4: Energi | P4: Protein | Q4: vätska
A5: Drycker, kalla soppor, välling | B5: ml | C5: kcal | D5: g | E5: ml | G5: Mellanmål, glass, frukt, kakor | H5: antal | I5: kcal | J5: g | K5: ml | M5: Microrätter och varma soppor | N5: antal | O5: kcal | P5: g | Q5: ml
A6: Juice, saft, ProViva | C6: =B6*0.4 -> 0 | D6: 0 | E6: =B6*1 -> 0 | G6: Kräm, dl | I6: =H6*80 -> 0 | J6: 0 | M6: Fryst paj | O6: =N6*630 -> 0 | P6: =N6*23 -> 0
A7: Alkoholfri öl, lättdryck, ProViva utan tillsatt socker | C7: =B7*0.2 -> 0 | D7: 0 | E7: =B7*0.95 -> 0 | G7: Risifrutti, Mannafrutti, 1 frp | I7: =H7*210 -> 0 | J7: =H7*5 -> 0 | M7: Fryst enportionsrätt | O7: =N7*540 -> 0 | P7: =N7*22 -> 0
A8: Chokladdryck (blandad med vatten) | C8: =B8*0.5 -> 0 | D8: =B8*0.02 -> 0 | E8: =B8*0.95 -> 0 | G8: Protino dessertyoghurt, 1 st | I8: =H8*115 -> 0 | J8: =H8*6 -> 0 | M8: Tunn pannkaka, 1 st | O8: =N8*60 -> 0 | P8: =N8*2 -> 0
A9: Liva Äppeldryck | C9: =B9*1 -> 0 | D9: =B9*0 -> 0 | E9: =B9*0.95 -> 0 | G9: Chokladpudding Jacky, 1 st | I9: =H9*140 -> 0 | J9: =H9*5 -> 0 | M9: Kelda soppa, dl | O9: =N9*60 -> 0 | P9: =N9*2 -> 0 | Q9: =SUM(N9*90) -> 0
A10: Nyponsoppa | C10: =B10*0.5 -> 0 | D10: =B10*0 -> 0 | E10: =B9*0.8 -> 0 | G10: Chokladpudding 1:2 pulver med mjölk, 1dl | I10: =H10*140 -> 0 | J10: =H10*4 -> 0
A11: Kaffe, te, vatten, lightdryck, lightläsk, drickbuljong | C11: 0 | D11: 0 | E11: =B11*1 -> 0 | G11: Glass, grädd, 1 bägare | I11: =H11*130 -> 0 | J11: =H11*2 -> 0 | M11: Tillbehör | N11: antal | O11: kcal | P11: g | Q11: ml
G12: Glass, utan tillsatt socker, 1 bägare | I12: =H12*110 -> 0 | J12: =H12*2 -> 0 | M12: Mos, sylt, marmelad, msk | O12: =N12*30 -> 0 | P12: 0
A13: Mjölk, fil, yoghurt, grädde | B13: ml | C13: kcal | D13: g | E13: ml | G13: Glass, Oatly, 1 dl | I13: =H13*130 -> 0 | J13: =H13*0 -> 0 | M13: Sylt (osötad/med sötningsmedel), msk | O13: =N13*7 -> 0 | P13: 0
A14: Mjölk, fil, naturell youghurt (3 %) | C14: =B14*0.6 -> 0 | D14: =B14*0.03 -> 0 | E14: =B14*0.9 -> 0 | G14: Glasspinne isglass, 1 st | I14: =H14*50 -> 0 | J14: 0 | M14: Vispgrädde, ovispad, 1 msk | O14: =N14*60 -> 0 | P14: 0
A15: Mellanmjölk (1,5 %) | C15: =B15*0.5 -> 0 | D15: =B15*0.03 -> 0 | E15: =B15*0.9 -> 0 | G15: Sorbet, mangopassion, 1 dl | I15: =H15*140 -> 0 | J15: 0 | M15: Vispgrädde, vispad, 1 msk | O15: =N15*30 -> 0 | P15: 0
A16: Lättmjölk, lättfil, lättyoghurt (0,5 %) | C16: =B16*0.4 -> 0 | D16: =B16*0.03 -> 0 | E16: =B16*0.9 -> 0 | G16: Glass, Skee-is, energi- och proteinrik, 1 st | I16: =H16*220 -> 0 | J16: =H16*6 -> 0 | M16: Socker, bit | O16: =N16*10 -> 0 | P16: 0
A17: Fruktyoghurt inkl laktosfri och vanilj | C17: =B17*0.8 -> 0 | D17: =B17*0.04 -> 0 | E17: =B17*0.9 -> 0 | G17: Frysta bär, 1 dl | I17: =H17*30 -> 0 | J17: 0 | M17: Socker, msk | O17: =N17*50 -> 0 | P17: 0
A18: Keso laktosfri | C18: =B18*0.9 -> 0 | D18: =B18*0.13 -> 0 | G18: Färsk frukt, banan | I18: =H18*100 -> 0 | J18: =H18*1 -> 0 | M18: Socker, rör | O18: =N18*20 -> 0 | P18: 0
A19: Turkisk yoghurt (10 %) | C19: =B19*1.2 -> 0 | D19: =B19*0.04 -> 0 | E19: =B19*0.9 -> 0 | G19: Färsk frukt, st/ vindruvor, dl | I19: =H19*60 -> 0 | J19: =H19*1 -> 0 | M19: Honung, 25g | O19: =N19*80 -> 0 | P19: 0
A20: Havregurt naturell (3%) | C20: =B20*0.8 -> 0 | D20: =B20*0.01 -> 0 | E20: =B20*0.9 -> 0 | G20: Kesella vanilj, 1 frp | I20: =H20*375 -> 0 | J20: =H20*18 -> 0 | M20: Majonnäs, 1 msk | O20: =N20*95 -> 0 | P20: 0
A21: Havredryck | C21: =B21*0.5 -> 0 | D21: =B21*0.01 -> 0 | E21: =B21*0.9 -> 0 | M21: Creme fraiche, 1 msk | O21: =N21*50 -> 0 | P21: 0
A22: Kesella | C22: =B22*1.4 -> 0 | D22: =B22*0.08 -> 0 | G22: Kakor, kex, skorpor | H22: antal | I22: kcal | J22: g | K22: ml | M22: Olja, flytande margarin, 1 tsk | O22: =N22*30 -> 0 | P22: 0
A23: Sojadryck | C23: =B23*0.4 -> 0 | D23: =B23*0.03 -> 0 | E23: =B23*0.9 -> 0 | G23: Kanelbulle, glutenfri, 1 st | I23: =H23*200 -> 0 | J23: =H23*1 -> 0
G24: Sockerkaka, berikad, 1 bit | I24: =H24*150 -> 0 | J24: =H24*4 -> 0 | M24: Godis, snacks | N24: antal | O24: kcal | P24: g | Q24: ml
A25: Gröt, flingor | B25: dl | C25: kcal | D25: g | E25: ml | G25: Vetelängd/ rulltårta, skiva á 2 cm | I25: =H25*130 -> 0 | J25: =H25*2 -> 0 | M25: Choklad, ruta eller pralin | O25: =N25*40 -> 0 | P25: =N25*1 -> 0
A26: Havregrynsgröt | C26: =B26*70 -> 0 | D26: =B26*2 -> 0 | G26: Minimuffins, 1 st | I26: =H26*80 -> 0 | J26: =H26*1 -> 0 | M26: Chokladkaka, 100 g/kaka | O26: =N26*550 -> 0 | P26: =N26*8 -> 0
A27: Mannagrynsgröt (på 3 % mjölk) | C27: =B27*80 -> 0 | D27: =B27*4 -> 0 | G27: Småkaka, 1 st | I27: =H27*60 -> 0 | J27: =H27*1 -> 0 | M27: Kexchoklad, Daim, Japp, 25-30 g/bit | O27: =N27*135 -> 0 | P27: =N27*1 -> 0
A28: Risgrynsgröt (på 3 % mjölk) | C28: =B28*85 -> 0 | D28: =B28*2 -> 0 | G28: Chokladboll (Delicato), 1 st | I28: =H28*190 -> 0 | J28: =H28*2 -> 0 | M28: Smågodis, bit | O28: =N28*20 -> 0 | P28: 0
A29: Cornflakes, Havrefras | C29: =B29*50 -> 0 | D29: =B29*1 -> 0 | G29: Mariekex, Wafers, majskaka, 1 st | I29: =H29*30 -> 0 | J29: =H29*0 -> 0 | M29: Smågodis, g | O29: =N29*4 -> 0 | P29: 0
A30: Müsli (frukt) | C30: =B30*160 -> 0 | D30: =B30*4 -> 0 | G30: Digestivekex, 1 st | I30: =H30*70 -> 0 | J30: =H30*1 -> 0 | M30: Naturgodis, g | O30: =N30*5 -> 0 | P30: 0
G31: Smörgåsrån, Saltiner, 1 st | I31: =H31*20 -> 0 | J31: =H31*0 -> 0 | M31: Ostbågar, dl | O31: =N31*40 -> 0 | P31: =N31*1 -> 0
A32: Smörgås, bröd, pålägg, ägg | B32: antal | C32: kcal | D32: g | E32: ml | G32: Skorpa, 1 st | I32: =H32*50 -> 0 | J32: =H32*1 -> 0 | M32: Potatischips, dl | O32: =N32*60 -> 0 | P32: =N32*1 -> 0
A33: Mjuk smörgås (bröd, margarin, pålägg) | C33: =B33*140 -> 0 | D33: =B33*6 -> 0 | M33: Popcorn, dl | O33: =N33*30 -> 0 | P33: =N33*1 -> 0
A34: Hård smörgås (knäcke, margarin, pålägg) | C34: =B34*110 -> 0 | D34: =B34*5 -> 0 | M34: Salta pinnar | O34: =N34*8 -> 0 | P34: =N34*0 -> 0
A35: Mjukt bröd, skiva | C35: =B35*70 -> 0 | D35: =B35*2 -> 0 | M35: Nötter, mandel, dl | O35: =N35*400 -> 0 | P35: =N35*10 -> 0
A36: Hårt bröd, skiva | C36: =B36*40 -> 0 | D36: =B36*1 -> 0 | M36: Torkad frukt, dl | O36: =N36*200 -> 0 | P36: =N36*2 -> 0
A37: Margarin, 70-80 % (portionsförpackning) 10 g | C37: =B37*70 -> 0 | D37: 0
A38: Margarin lätt, 40 % (portionsförpackning) 10 g | C38: =B38*40 -> 0 | D38: 0
A39: Pålägg (ost, medwurst), per smörgås | C39: =B39*50 -> 0 | D39: =B39*3 -> 0
A40: Pålägg (skinka, kyckling), per smörgås | C40: =B40*20 -> 0 | D40: =B40*3 -> 0
A41: Pålägg (leverpastej), per smörgås | C41: =B41*40 -> 0 | D41: =B41*2 -> 0
...

Sheet Lunch och middag
A1: INSTRUKTION
A2: I den gröna kolumnen skriver man 1 om hela portionen äts upp, 0,75 om 3/4 av portionen äts upp, 0,5 om hälften äts upp osv
C4: Energi | D4: Protein | E4: Vätska
A5: Vuxenmeny, genomsnitt | C5: kcal | D5: g | E5: ml
A6: Varmrätt, rullande meny | C6: =B6*500 -> 0 | D6: =B6*23 -> 0
A7: Dessert rullande meny | C7: =B7*180 -> 0 | D7: =B7*2 -> 0
A8: Vegankost, varmrätt | C8: =B8*500 -> 0 | D8: =B8*20 -> 0
A9: Vegankost dessert | C9: =B9*165 -> 0 | D9: =B9*2 -> 0
A10: Råkost | C10: =B10*40 -> 0 | D10: 0
A11: Konsistensanpassad portion
A12: Grov paté, varmrätt | C12: =B12*500 -> 0 | D12: =B12*20 -> 0
A13: Timbalkost, varmrätt | C13: =B13*500 -> 0 | D13: =B13*20 -> 0
A14: Flytande kost, varmrätt | C14: =B14*450 -> 0 | D14: =B14*17 -> 0 | E14: =SUM(B14*250) -> 0
A15: Dessert, flytande kost | C15: =SUM(B15*150) -> 0 | D15: =SUM(B15*2) -> 0 | E15: =SUM(B15*150) -> 0
A16: Dessert, konsistensanpassad | C16: =B16*150 -> 0 | D16: =B16*2 -> 0
A17: Specialkoster | C17: =B17*500 -> 0 | D17: =B17*20 -> 0
A20: Energi från lunch och middag: | B20: =CEILING( SUM(C6:C19),1) -> 0 | D20: kcal
A21: Protein från lunch och middag: | B21: =CEILING(SUM(D6:D10,D12:D18),1) -> 0 | D21: g
A22: Vätska från lunch och middag | B22: =CEILING(SUM(E6:E10,E12:E17),1) -> 0 | D22: ml

Sheet Nya Måltider
A1: INSTRUKTION
A2: I den röda kolumnen skriver man 1 om hela portionen äts upp, 0,75 om 3/4 av portionen äts upp, 0,5 om hälften äts upp osv
C4: Energi | D4: Protein | E4: Vätska | I4: Energi | J4: Protein | K4: Vätska
A5: Huvudrätt VEG | C5: kcal | D5: g | E5: ml | G5: Smårätter söta | I5: kcal | J5: protein | K5: ml
A6: Broccolifritters | C6: =B6*680 -> 0 | D6: =B6*21 -> 0 | G6: Chokladbrownie | I6: =H6*219 -> 0 | J6: =H6*2 -> 0
A7: Kålpudding | C7: =B7*648 -> 0 | D7: =B7*21 -> 0 | G7: Dadelbar | I7: =H7*173 -> 0 | J7: =H7*2 -> 0
A8: Chili sin carne | C8: =B8*454 -> 0 | D8: =B8*20 -> 0 | G8: Citronpannacotta | I8: =H8*199 -> 0 | J8: =H8*3 -> 0
A9: Huvudrätt FÅGEL | G9: Rabarberkompott | I9: =H9*185 -> 0 | J9: =H9*1 -> 0
A10: Örtstekt kycklingbröst | C10: =B10*463 -> 0 | D10: =B10*32 -> 0 | G10: Jordgubbsmousse | I10: =H10*161 -> 0 | J10: =H10*3 -> 0
A11: Butterchicken med basmatiris | C11: =B11*517 -> 0 | D11: =B11*31 -> 0 | G11: Smårätter salta
A12: Huvudrätt NÖTKÖTT | G12: Krämig grönsakssoppa | I12: =H12*163 -> 0 | J12: =H12*6 -> 0 | K12: =SUM(H12*180) -> 0
A13: Pasta med köttfärssås | C13: =B13*490 -> 0 | D13: =B13*26 -> 0 | G13: Kycklingsoppa | I13: =H13*187 -> 0 | J13: =H13*5 -> 0 | K13: =SUM(H13*180) -> 0
A14: Nötfärsbiff med gratäng | C14: =B14*582 -> 0 | D14: =B14*21 -> 0 | G14: Ugnsomelett | I14: =H14*140 -> 0 | J14: =H14*9 -> 0
A15: Huvudrätt FLÄSK | G15: Tomat- och basilikapaj | I15: =H15*155 -> 0 | J15: =H15*6 -> 0
A16: Köttbullar med potatismos | C16: =B16*550 -> 0 | D16: =B16*21 -> 0
A17: Kotlett med dragonsås | C17: =B17*531 -> 0 | D17: =B17*30 -> 0
A18: Huvudrätt FISK
A19: Ugnsbakad kolja | C19: =B19*422 -> 0 | D19: =B19*32 -> 0
A20: Fiskgryta | C20: =B20*451 -> 0 | D20: =B20*25 -> 0
A21: Sejfilé | C21: =B21*506 -> 0 | D21: =B21*30 -> 0
G22: Energi från lunch och middag: | J22: =CEILING(SUM(C6:C21,I6:I17),1) -> 0 | K22: kcal
G23: Protein från lunch och middag: | J23: =CEILING(SUM(D6:D21,J6:J17),1) -> 0 | K23: g
G24: Vätska från lunch och middag: | J24: =CEILING(SUM(E6:E8,K6:K10,E10:E11,E13:E14,E16:E17,E19:E21,K12:K15),1) -> 0 | K24: ml

Sheet Näringsdrycker
A1: INSTRUKTION
A2: Ange konsumerad mängd i ml eller gram i den blå kolumnen
A5: Icke-klara | B5: ml | C5: energi | D5: protein | E5: vätska | G5: Anpassat innehåll eller konsistens | H5: ml | I5: energi | J5: protein | K5: vätska
A6: Resource 2.0 med/utan fiber, 200 ml/fl | C6: =B6*2 -> 0 | D6: =B6*0.09 -> 0 | E6: =B6*0.69 -> 0 | G6: Renilon 4.0, 125 ml/förp | I6: =H6*2 -> 0 | J6: =H6*0.0392 -> 0 | K6: =H6*0.71 -> 0
A7: Fresubin 2 kcal drink med eller utan fiber, 200ml/fl | C7: =B7*2 -> 0 | D7: =B7*0.1 -> 0 | E7: =B7*0.68 -> 0 | G7: Renilon 7.5, 125 ml/förp | I7: =H7*1.992 -> 0 | J7: =H7*0.0728 -> 0 | K7: =H7*0.71 -> 0
A8: Resource Ultra, 125 ml/fl | C8: =B8*2.24 -> 0 | D8: =B8*0.16 -> 0 | E8: =B8*0.66 -> 0 | G8: Frebini Energy Drink med/utan fiber, 200 ml/fl | I8: =H8*1.5 -> 0 | J8: =H8*0.038 -> 0 | K8: =H8*0.78 -> 0
A9: Resource Activ, 200 ml/fl | C9: =B9*1.6 -> 0 | D9: =B9*1 -> 0 | E9: =B9*0.75 -> 0 | G9: Fortini Smoothie, 200 ml/fl | I9: =H9*1.5 -> 0 | J9: =H9*0.034 -> 0 | K9: =H9*0.77 -> 0
A10: Fresubin Protein Energy, 200 ml/fl | C10: =B10*1.5 -> 0 | D10: =B10*0.1 -> 0 | E10: =B10*0.79 -> 0 | G10: Resource Minimax, 200 ml/fl | I10: =H10*1.2 -> 0 | J10: =H10*0.038 -> 0 | K10: =H10*0.82 -> 0
A11: Nutridrink Compact Protein, 125 ml/fl | C11: =B11*2.4 -> 0 | D11: =B11*0.144 -> 0 | E11: =B11*0.62 -> 0 | G11: Fresubin Thickened Stage 1 eller 2, 200 ml/fl | I11: =H11*1.5 -> 0 | J11: =H11*0.1 -> 0 | K11: =H11*0.79 -> 0
A12: Nutridrink Plantbased protein 2.0, 200 ml/fl | C12: =B12*2 -> 0 | D12: =B12*0.1 -> 0 | E12: =B12*0.78 -> 0 | G12: Fresubin Yocrème, 125 g/bägare | I12: =H12*1.5 -> 0 | J12: =H12*0.075 -> 0 | K12: =H12*0.66 -> 0
A13: Nutridrink Protein 2.0, 200 ml/fl | C13: =B13*2 -> 0 | D13: =B13*0.1 -> 0 | E13: =B13*0.7 -> 0 | G13: Fresubin Dessert Fruit, 125 g/bägare | I13: =H13*1.58 -> 0 | J13: =H13*0.07 -> 0 | K13: =H13*0.66 -> 0
G14: Fresubin 2 kcal crème, 125 g/bägare | I14: =H14*2 -> 0 | J14: =H14*0.1 -> 0 | K14: =H14*0.58 -> 0
A15: Klara | G15: Nutilis Complete Stage 1, 125 ml/fl | I15: =H15*2.448 -> 0 | J15: =H15*0.096 -> 0 | K15: =H15*0.62 -> 0
A16: Resource Addera Plus, 200 ml/fl | C16: =B16*1.5 -> 0 | D16: =B16*0.04 -> 0 | E16: =B16*0.75 -> 0 | G16: Elemental 028 Extra, 1 påse till slutvolym 500 ml | I16: =H16*0.87 -> 0 | J16: =H16*0.025 -> 0 | K16: =H16*0.8 -> 0
A17: Nutridrink Jucy, 200 ml/fl | C17: =B17*1.5 -> 0 | D17: =B17*0.04 -> 0 | E17: =B17*0.76 -> 0 | G17: Elemental 028 Extra Liquid, 250 ml/förp | I17: =H17*0.86 -> 0 | J17: =H17*0.025 -> 0 | K17: =H17*0.8 -> 0
A18: ProvideXtra Drink, 200 ml/fl | C18: =B18*1.5 -> 0 | D18: =B18*0.04 -> 0 | E18: =B18*0.75 -> 0 | G18: preOp, 200 ml/fl | I18: =H18*0.5 -> 0 | J18: =H18*0 -> 0 | K18: =H18*0.92 -> 0
G19: Nutridrink PlantBased, 200 ml/fl | I19: =H19*1.5 -> 0 | J19: =H19*0.06 -> 0 | K19: =H19*0.78 -> 0
A22: Energi från näringsdrycker: | C22: =CEILING(SUM(C6:C14,C16:C18,I6:I19,I23:I30),1) -> 0 | D22: kcal | G22: Berikningsprodukter | H22: ml / g | I22: energi | J22: protein | K22: vätska
A23: Protein från näringsdrycker: | C23: =CEILING(SUM(D6:D13,D16:D18,J6:J19,J23:J30),1) -> 0 | D23: g | G23: Fresubin 5 kcal shot, 120 ml/fl | I23: =H23*5 -> 0 | J23: 0 | K23: =H23*0.4 -> 0
A24: Vätska från näringsdrycker: | C24: =CEILING(SUM(E6:E13,E16:E18,K6:K19,K23:K30),1) -> 0 | D24: ml | G24: Nutrical. 200 ml/fl | I24: =H24*2.47 -> 0 | J24: =H24*0 -> 0 | K24: =H24*0.62 -> 0
G25: Nutrical, 1 msk = 15 ml | I25: =H25*2.4 -> 0 | J25: 0 | K25: =H25*0.62 -> 0
G26: Fantomalt, 1 skopa = 5 g | I26: =H26*3.8 -> 0 | J26: 0 | K26: 0
G27: Fresubin Protein Powder, 1 skopa = 5 g | I27: =H27*3.6 -> 0 | J27: =H27*0.88 -> 0 | K27: 0
G28: Nutrison Powder, 1/2 dl = 20 g | I28: =H28*4.6 -> 0 | J28: =H28*0.181 -> 0 | K28: 0
G29: Liquigen | I29: =H29*4.5 -> 0 | J29: 0 | K29: =H29*0.46 -> 0
G30: MCT-olja | I30: =H30*8.55 -> 0 | J30: 0 | K30: 0

Sheet Sondnäring
A1: INSTRUKTION
A2: Ange given volym i ml i den lila kolumnen
A5: Sondnäring | B5: ml | C5: energi | D5: protein | E5: vätska
A6: Isosource Compleat | C6: =B6*1.1 -> 0 | D6: =B6*0.044 -> 0 | E6: =B6*0.84 -> 0
A7: Isosource Standard | C7: =B7*1 -> 0 | D7: =B7*0.039 -> 0 | E7: =B7*0.86 -> 0
A8: Nutrison Multi Fibre | C8: =B8*1.03 -> 0 | D8: =B8*0.04 -> 0 | E8: =B8*0.84 -> 0
A9: Isosource Protein | C9: =B9*1.3 -> 0 | D9: =B9*0.067 -> 0 | E9: =B9*0.81 -> 0
A10: Isosource Protein Fibre | C10: =B10*1.33 -> 0 | D10: =B10*0.067 -> 0 | E10: =B10*0.79 -> 0
A11: Nutrison Protein Plus Multifibre | C11: =B11*1.28 -> 0 | D11: =B11*0.063 -> 0 | E11: =B11*0.8 -> 0
A12: Nutrison Energy | C12: =B12*1.5 -> 0 | D12: =B12*0.06 -> 0 | E12: =B12*0.78 -> 0
A13: NutrisonEnergy Multi Fibre | C13: =B13*1.53 -> 0 | D13: =B13*0.06 -> 0 | E13: =B13*0.76 -> 0
A14: Fresubin Complete 1000 kcal | C14: =B14*1 -> 0 | D14: =B14*0.055 -> 0 | E14: =B14*0.83 -> 0
A15: Fresubin Complete 1200 kcal | C15: =B15*1.2 -> 0 | D15: =B15*0.06 -> 0 | E15: =B15*0.8 -> 0
A16: Fresubin 2 kcal HP Fibre | C16: =B16*2 -> 0 | D16: =B16*0.1 -> 0 | E16: =B16*0.68 -> 0
A17: Fresubin 2 kcal HP | C17: =B17*2 -> 0 | D17: =B17*1 -> 0 | E17: =B17*0.69 -> 0
A18: Nutrison Diason Energy HP | C18: =B18*1.5 -> 0 | D18: =B18*0.077 -> 0 | E18: =B18*0.77 -> 0
A19: Survimed OPD | C19: =B19*1 -> 0 | D19: =B19*0.045 -> 0 | E19: =B19*0.85 -> 0
A20: Peptamen HN | C20: =B20*1.33 -> 0 | D20: =B20*0.067 -> 0 | E20: =B20*0.8 -> 0
A21: Fresubin Plant-based | C21: =B21*1.5 -> 0 | D21: =B21*0.075 -> 0 | E21: =B21*0.86 -> 0
B24: Energi från sondnäring: | C24: =CEILING(SUM(C6:C21),1) -> 0 | D24: kcal
B25: Protein från sondnäring: | C25: =CEILING(SUM(D6:D21),1) -> 0 | D25: g
B26: Vätska från sondnäring: | C26: =CEILING(SUM(E6:E21),1) -> 0 | D26: ml

Sheet Parenteral nutrition och vätska
A1: INSTRUKTION
A2: Ange given volym i ml i den gula kolumnen
A5: Parenteral nutrition | B5: ml | C5: energi | D5: protein | F5: Kabiven | G5: Kabiven peri | H5: SmofKabiven | I5: SmofKabiven peri | J5: Olimel N9 | K5: Olimel N7/5/4 | M5: Parenteral vätska | N5: ml
A6: SmofKabiven | C6: =B6*1.108 -> 0 | D6: =B6*0.051 -> 0 | F6: 1026 | G6: 1440 | H6: 493 | I6: 1206 | J6: 1000 | K6: 1000 | M6: NaCl
A7: Smof Kabiven Perifer | C7: =B7*0.67 -> 0 | D7: =B7*0.032 -> 0 | F7: 1540 | G7: 1920 | H7: 986 | I7: 1448 | K7: 1500 | M7: Ringer
A8: Olimel N9 | C8: =B8*1.07 -> 0 | D8: =B8*0.057 -> 0 | F8: 2053 | G8: 2400 | H8: 1477 | I8: 1904 | K8: 2000 | M8: Sandimmun
A9: Olimel N7 | C9: =B9*1.138 -> 0 | D9: =B9*0.044 -> 0 | F9: 2566 | H9: 1970 | K9: 2500 | M9: Spoldropp
A10: Olimel N5 | C10: =B10*0.99 -> 0 | D10: =B10*0.033 -> 0 | H10: 2463 | M10: Cytostatikavätska
A11: Olimel Perifer N4 | C11: =B11*0.7 -> 0 | D11: =B11*0.025 -> 0 | M11: Antibiotikavätska
A12: Nutriflex lipid peri | C12: =B12*0.764 -> 0 | D12: =B12*0.032 -> 0 | F12: Nutriflex peri o plus | G12: N-flex special o omega spec | M12: Övriga vätskor
A13: Nutriflex lipid plus | C13: =B13*1.01 -> 0 | D13: =B13*0.038 -> 0 | F13: 1250 | G13: 625
A14: Nutriflex lipid special | C14: =B14*1.18 -> 0 | D14: =B14*0.056 -> 0 | F14: 1875 | G14: 1250
A15: Nutriflex omega special | C15: =B15*1.18 -> 0 | D15: =B15*0.058 -> 0 | F15: 2500 | G15: 1875
A16: Glukos 2,5% | C16: =B16*0.1 -> 0 | D16: 0
A17: Glucos 5% | C17: =B17*0.2 -> 0 | D17: 0
A18: Glucos 10% | C18: =B18*0.4 -> 0 | D18: 0
C21: Energi från parenteral nutrition: | D21: =CEILING(SUM(C6:C18),1) -> 0 | E21: kcal
C22: Protein från parenteral nutrition: | D22: =CEILING(SUM(D6:D18),1) -> 0 | E22: g
C23: Vätska från parenteral nutrition och vätska: | D23: =CEILING(SUM(B6:B18,N6:N12),1) -> 0 | E23: ml

Sheet Resultat
G11: Energi | I11: Protein | K11: Vätska
F12: Mat och dryck | G12: =SUM('Frukost, mellanmål och dryck'!N44,'Lunch och middag'!B20,'Nya Måltider'!J22) -> 0 | I12: =SUM('Frukost, mellanmål och dryck'!N45,'Lunch och middag'!B21,'Nya Måltider'!J23) -> 0 | K12: =SUM('Frukost, mellanmål och dryck'!N46,'Lunch och middag'!B22,'Nya Måltider'!J24) -> 0
F13: Näringsdryck och berikning | G13: =SUM(Näringsdrycker!C22) -> 0 | I13: =SUM(Näringsdrycker!C23) -> 0 | K13: =SUM(Näringsdrycker!C24) -> 0
F14: Sondnäring | G14: =SUM(Sondnäring!C24) -> 0 | I14: =SUM(Sondnäring!C25) -> 0 | K14: =SUM(Sondnäring!C26) -> 0
F15: Parenteral nutrition och vätska | G15: =SUM('Parenteral nutrition och vätska'!D21) -> 0 | I15: =SUM('Parenteral nutrition och vätska'!D22) -> 0 | K15: =SUM('Parenteral nutrition och vätska'!D23) -> 0
F17: Totalt dygnsintag | G17: =SUM(G12:G15) -> 0 | H17: kcal | I17: =SUM(I12:I15) -> 0 | J17: g | K17: =SUM(K12:K15) -> 0 | L17: ml
